BEGIN:VCALENDAR
VERSION:2.0
PRODID:-//Centre d&#039;art contemporain de St Restitut - ECPv6.15.20//NONSGML v1.0//EN
CALSCALE:GREGORIAN
METHOD:PUBLISH
X-WR-CALNAME:Centre d&#039;art contemporain de St Restitut
X-ORIGINAL-URL:https://cacstrestitut.fr
X-WR-CALDESC:Évènements pour Centre d&#039;art contemporain de St Restitut
REFRESH-INTERVAL;VALUE=DURATION:PT1H
X-Robots-Tag:noindex
X-PUBLISHED-TTL:PT1H
BEGIN:VTIMEZONE
TZID:Europe/Paris
BEGIN:DAYLIGHT
TZOFFSETFROM:+0100
TZOFFSETTO:+0200
TZNAME:CEST
DTSTART:20200329T010000
END:DAYLIGHT
BEGIN:STANDARD
TZOFFSETFROM:+0200
TZOFFSETTO:+0100
TZNAME:CET
DTSTART:20201025T010000
END:STANDARD
BEGIN:DAYLIGHT
TZOFFSETFROM:+0100
TZOFFSETTO:+0200
TZNAME:CEST
DTSTART:20210328T010000
END:DAYLIGHT
BEGIN:STANDARD
TZOFFSETFROM:+0200
TZOFFSETTO:+0100
TZNAME:CET
DTSTART:20211031T010000
END:STANDARD
BEGIN:DAYLIGHT
TZOFFSETFROM:+0100
TZOFFSETTO:+0200
TZNAME:CEST
DTSTART:20220327T010000
END:DAYLIGHT
BEGIN:STANDARD
TZOFFSETFROM:+0200
TZOFFSETTO:+0100
TZNAME:CET
DTSTART:20221030T010000
END:STANDARD
END:VTIMEZONE
BEGIN:VEVENT
DTSTART;TZID=Europe/Paris:20210714T103000
DTEND;TZID=Europe/Paris:20210714T163000
DTSTAMP:20260423T045124
CREATED:20210522T102744Z
LAST-MODIFIED:20210528T153947Z
UID:2510-1626258600-1626280200@cacstrestitut.fr
SUMMARY:In Situ\, visites avec les artistes
DESCRIPTION:Visites des sculptures présentes dans le village avec les artistes
URL:https://cacstrestitut.fr/event/hors-les-murs-visites-avec-les-artistes/
LOCATION:Cac saint restitut\, 3 passage de la cure\, Saint Restitut\, 26130\, France
END:VEVENT
END:VCALENDAR