BEGIN:VCALENDAR
VERSION:2.0
PRODID:-//Centre d&#039;art contemporain de St Restitut - ECPv6.15.20//NONSGML v1.0//EN
CALSCALE:GREGORIAN
METHOD:PUBLISH
X-ORIGINAL-URL:https://cacstrestitut.fr
X-WR-CALDESC:Évènements pour Centre d&#039;art contemporain de St Restitut
REFRESH-INTERVAL;VALUE=DURATION:PT1H
X-Robots-Tag:noindex
X-PUBLISHED-TTL:PT1H
BEGIN:VTIMEZONE
TZID:Europe/Paris
BEGIN:DAYLIGHT
TZOFFSETFROM:+0100
TZOFFSETTO:+0200
TZNAME:CEST
DTSTART:20200329T010000
END:DAYLIGHT
BEGIN:STANDARD
TZOFFSETFROM:+0200
TZOFFSETTO:+0100
TZNAME:CET
DTSTART:20201025T010000
END:STANDARD
BEGIN:DAYLIGHT
TZOFFSETFROM:+0100
TZOFFSETTO:+0200
TZNAME:CEST
DTSTART:20210328T010000
END:DAYLIGHT
BEGIN:STANDARD
TZOFFSETFROM:+0200
TZOFFSETTO:+0100
TZNAME:CET
DTSTART:20211031T010000
END:STANDARD
BEGIN:DAYLIGHT
TZOFFSETFROM:+0100
TZOFFSETTO:+0200
TZNAME:CEST
DTSTART:20220327T010000
END:DAYLIGHT
BEGIN:STANDARD
TZOFFSETFROM:+0200
TZOFFSETTO:+0100
TZNAME:CET
DTSTART:20221030T010000
END:STANDARD
END:VTIMEZONE
BEGIN:VEVENT
DTSTART;TZID=Europe/Paris:20210604T143000
DTEND;TZID=Europe/Paris:20210604T203000
DTSTAMP:20260423T065051
CREATED:20210526T130040Z
LAST-MODIFIED:20210528T153508Z
UID:2550-1622817000-1622838600@cacstrestitut.fr
SUMMARY:Fin de l'exposition "Parenthèse 2021" : Rencontre avec Gary Knight
DESCRIPTION:A partir de 14h30 Fin de l’exposition de Gary KNIGHT \n17h : Rencontre avec Gary KNIGHT \n 
URL:https://cacstrestitut.fr/event/fin-de-lexposition-parenthese-2021/
LOCATION:Cac saint restitut\, 3 passage de la cure\, Saint Restitut\, 26130\, France
END:VEVENT
BEGIN:VEVENT
DTSTART;TZID=Europe/Paris:20210613T103000
DTEND;TZID=Europe/Paris:20210613T120000
DTSTAMP:20260423T065051
CREATED:20210526T130517Z
LAST-MODIFIED:20210526T130517Z
UID:2552-1623580200-1623585600@cacstrestitut.fr
SUMMARY:Table Ronde animée par Olivier Kaeppelin (Exposition Yazid Oulab)
DESCRIPTION:Olivier Kaeppelin (ex-délégué aux arts plastiques et ex-directeur de la fondation Maeght) en Présence de Yazid Oulab
URL:https://cacstrestitut.fr/event/table-ronde-animee-par-olivier-kaeppelin-exposition-yazid-oulab/
LOCATION:Cac saint restitut\, 3 passage de la cure\, Saint Restitut\, 26130\, France
END:VEVENT
BEGIN:VEVENT
DTSTART;TZID=Europe/Paris:20210619T180000
DTEND;TZID=Europe/Paris:20210619T200000
DTSTAMP:20260423T065051
CREATED:20210526T130748Z
LAST-MODIFIED:20210526T130748Z
UID:2554-1624125600-1624132800@cacstrestitut.fr
SUMMARY:Conférence de Karole Vail (Exposition Yazid Oulab)
DESCRIPTION:Karole Vail (Directrice de la fondation Guggenheim de Venise ) – Histoire d’une collection.
URL:https://cacstrestitut.fr/event/conference-de-karole-vail-exposition-yazid-oulab/
LOCATION:Cac saint restitut\, 3 passage de la cure\, Saint Restitut\, 26130\, France
END:VEVENT
END:VCALENDAR