BEGIN:VCALENDAR
VERSION:2.0
PRODID:-//Centre d&#039;art contemporain de St Restitut - ECPv6.15.20//NONSGML v1.0//EN
CALSCALE:GREGORIAN
METHOD:PUBLISH
X-WR-CALNAME:Centre d&#039;art contemporain de St Restitut
X-ORIGINAL-URL:https://cacstrestitut.fr
X-WR-CALDESC:Évènements pour Centre d&#039;art contemporain de St Restitut
REFRESH-INTERVAL;VALUE=DURATION:PT1H
X-Robots-Tag:noindex
X-PUBLISHED-TTL:PT1H
BEGIN:VTIMEZONE
TZID:Europe/Paris
BEGIN:DAYLIGHT
TZOFFSETFROM:+0100
TZOFFSETTO:+0200
TZNAME:CEST
DTSTART:20200329T010000
END:DAYLIGHT
BEGIN:STANDARD
TZOFFSETFROM:+0200
TZOFFSETTO:+0100
TZNAME:CET
DTSTART:20201025T010000
END:STANDARD
BEGIN:DAYLIGHT
TZOFFSETFROM:+0100
TZOFFSETTO:+0200
TZNAME:CEST
DTSTART:20210328T010000
END:DAYLIGHT
BEGIN:STANDARD
TZOFFSETFROM:+0200
TZOFFSETTO:+0100
TZNAME:CET
DTSTART:20211031T010000
END:STANDARD
BEGIN:DAYLIGHT
TZOFFSETFROM:+0100
TZOFFSETTO:+0200
TZNAME:CEST
DTSTART:20220327T010000
END:DAYLIGHT
BEGIN:STANDARD
TZOFFSETFROM:+0200
TZOFFSETTO:+0100
TZNAME:CET
DTSTART:20221030T010000
END:STANDARD
BEGIN:DAYLIGHT
TZOFFSETFROM:+0100
TZOFFSETTO:+0200
TZNAME:CEST
DTSTART:20230326T010000
END:DAYLIGHT
BEGIN:STANDARD
TZOFFSETFROM:+0200
TZOFFSETTO:+0100
TZNAME:CET
DTSTART:20231029T010000
END:STANDARD
BEGIN:DAYLIGHT
TZOFFSETFROM:+0100
TZOFFSETTO:+0200
TZNAME:CEST
DTSTART:20240331T010000
END:DAYLIGHT
BEGIN:STANDARD
TZOFFSETFROM:+0200
TZOFFSETTO:+0100
TZNAME:CET
DTSTART:20241027T010000
END:STANDARD
BEGIN:DAYLIGHT
TZOFFSETFROM:+0100
TZOFFSETTO:+0200
TZNAME:CEST
DTSTART:20250330T010000
END:DAYLIGHT
BEGIN:STANDARD
TZOFFSETFROM:+0200
TZOFFSETTO:+0100
TZNAME:CET
DTSTART:20251026T010000
END:STANDARD
END:VTIMEZONE
BEGIN:VEVENT
DTSTART;VALUE=DATE:20231203
DTEND;VALUE=DATE:20240108
DTSTAMP:20260424T205709
CREATED:20231130T144557Z
LAST-MODIFIED:20231130T144831Z
UID:3421-1701561600-1704671999@cacstrestitut.fr
SUMMARY:EXPOSITION / peinture\, installation\, dessin ... Carte blanche à Philippe CHITARRINI\, VERNISSAGE DIMANCHE 3 DECEMBRE 23 à 11H00
DESCRIPTION:
URL:https://cacstrestitut.fr/event/exposition-peinture-installation-dessin-carte-blanche-a-philippe-chitarrini-vernissage-dimanche-3-decembre-23-a-11h00/
LOCATION:Cac saint restitut\, 3 passage de la cure\, Saint Restitut\, 26130\, France
END:VEVENT
BEGIN:VEVENT
DTSTART;TZID=Europe/Paris:20231019T080000
DTEND;TZID=Europe/Paris:20231019T170000
DTSTAMP:20260424T205709
CREATED:20231019T154321Z
LAST-MODIFIED:20231019T154544Z
UID:3414-1697702400-1697734800@cacstrestitut.fr
SUMMARY:Prolongation EXPO Michel DUPORT >26 NOVEMBRE 2023
DESCRIPTION:
URL:https://cacstrestitut.fr/event/prolongation-expo-michel-duport-26-novembre-2023/
END:VEVENT
BEGIN:VEVENT
DTSTART;VALUE=DATE:20230915
DTEND;VALUE=DATE:20230918
DTSTAMP:20260424T205709
CREATED:20230909T124847Z
LAST-MODIFIED:20230909T124847Z
UID:3368-1694736000-1694995199@cacstrestitut.fr
SUMMARY:15_16_17 SEP 2023 ACCUEIL _ Journées européennes du patrimoine
DESCRIPTION:
URL:https://cacstrestitut.fr/event/15_16_17-sep-2023-accueil-_-journees-europeennes-du-patrimoine/
LOCATION:Cac saint restitut\, 3 passage de la cure\, Saint Restitut\, 26130\, France
END:VEVENT
BEGIN:VEVENT
DTSTART;TZID=Europe/Paris:20230806T103000
DTEND;TZID=Europe/Paris:20230806T130000
DTSTAMP:20260424T205709
CREATED:20230803T163241Z
LAST-MODIFIED:20230803T163241Z
UID:3206-1691317800-1691326800@cacstrestitut.fr
SUMMARY:Vernissage Michel Duport - Michel Duport - Formes en tableau/formant tableau
DESCRIPTION:Vernissage de l’exposition de Michel Duport. \nTable ronde 10h30 en présence de l’artiste et de Arnaud Faure Beaulieu Galleriste. \nOuvert à tous\,  gratuit \nRéservation par tel : 06.23.66.96.45 \n 
URL:https://cacstrestitut.fr/event/vernissage-michel-duport-michel-duport-formes-en-tableau-formant-tableau/
LOCATION:Cac saint restitut\, 3 passage de la cure\, Saint Restitut\, 26130\, France
END:VEVENT
BEGIN:VEVENT
DTSTART;TZID=Europe/Paris:20230806T100000
DTEND;TZID=Europe/Paris:20231007T190000
DTSTAMP:20260424T205709
CREATED:20230811T143947Z
LAST-MODIFIED:20230826T161803Z
UID:3208-1691316000-1696705200@cacstrestitut.fr
SUMMARY:EXPOSITION Michel DUPORT\, de la couleur ... de la peinture ... formes en tableau et en volumes ...
DESCRIPTION:
URL:https://cacstrestitut.fr/event/exposition-michel-duport-de-la-couleur-de-la-peinture-formes-en-tableau-et-en-volumes/
LOCATION:Cac saint restitut\, 3 passage de la cure\, Saint Restitut\, 26130\, France
END:VEVENT
BEGIN:VEVENT
DTSTART;TZID=Europe/Paris:20230806T080000
DTEND;TZID=Europe/Paris:20231007T170000
DTSTAMP:20260424T205709
CREATED:20230819T140021Z
LAST-MODIFIED:20230826T162454Z
UID:3266-1691308800-1696698000@cacstrestitut.fr
SUMMARY:EXPOSITION MICHEL DUPORT>7 OCTOBRE 2023 - 10H>12H  - 16H>19H
DESCRIPTION:
URL:https://cacstrestitut.fr/event/exposition-michel-duport/
LOCATION:Cac saint restitut\, 3 passage de la cure\, Saint Restitut\, 26130\, France
END:VEVENT
BEGIN:VEVENT
DTSTART;TZID=Europe/Paris:20230729T080000
DTEND;TZID=Europe/Paris:20230729T183000
DTSTAMP:20260424T205709
CREATED:20230724T163658Z
LAST-MODIFIED:20230724T163830Z
UID:3180-1690617600-1690655400@cacstrestitut.fr
SUMMARY:Inauguration de l'oeuvre VESTIGE de Marc-Marc VOILLOT samedi 29/07/2023 à chemin de la Chapelle St Sépulcre - St Restitut
DESCRIPTION:
URL:https://cacstrestitut.fr/event/inauguration-de-loeuvre-vestige-de-marc-marc-voillot-samedi-29-07-2023-a-chemin-de-la-chapelle-st-sepulcre-st-restitut/
END:VEVENT
BEGIN:VEVENT
DTSTART;TZID=Europe/Paris:20230618T103000
DTEND;TZID=Europe/Paris:20230618T120000
DTSTAMP:20260424T205709
CREATED:20230616T144037Z
LAST-MODIFIED:20230616T144037Z
UID:3099-1687084200-1687089600@cacstrestitut.fr
SUMMARY:Conférence immersion en histoire de l'art et autour de l'expo "Des Formes plurielles de Quentin LEFRANC" avec Jessica WATSON
DESCRIPTION:
URL:https://cacstrestitut.fr/event/conference-immersion-en-histoire-de-lart-et-autour-de-lexpo-des-formes-plurielles-de-quentin-lefranc-avec-jessica-watson/
LOCATION:Cac saint restitut\, 3 passage de la cure\, Saint Restitut\, 26130\, France
END:VEVENT
BEGIN:VEVENT
DTSTART;TZID=Europe/Paris:20230526T080000
DTEND;TZID=Europe/Paris:20230526T170000
DTSTAMP:20260424T205710
CREATED:20230526T151018Z
LAST-MODIFIED:20230526T151018Z
UID:3091-1685088000-1685120400@cacstrestitut.fr
SUMMARY:Prolongation de l'exposition Des Formes plurielles jusqu'au 23 juillet 2023
DESCRIPTION:
URL:https://cacstrestitut.fr/event/prolongation-de-lexposition-des-formes-plurielles-jusquau-23-juillet-2023/
END:VEVENT
BEGIN:VEVENT
DTSTART;TZID=Europe/Paris:20230319T080000
DTEND;TZID=Europe/Paris:20230723T170000
DTSTAMP:20260424T205710
CREATED:20230416T133441Z
LAST-MODIFIED:20230416T133847Z
UID:3049-1679212800-1690131600@cacstrestitut.fr
SUMMARY:Exposition Des Formes plurielles de Quentin LEFRANC
DESCRIPTION:Dans les carrières de St Restitut dont l’activité est arrêtée depuis la guerre de 1914\, des cubes de pierre sont en attente. De cette figure géométrique en suspend\, Quentin LEFRANC a pensé pour Cac St Restitut une suite de proposition à partir de la figure d’un cube\, mais aussi du triangle\, du rond … Chacune avec leurs propriétés et une implication spatiale différente\, viennent tour à tour\, en regard du lieu et du paysage environnant\, jouer avec la question de la sculpture\, son histoire\, ces fantômes.
URL:https://cacstrestitut.fr/event/exposition-des-formes-plurielles-de-quentin-lefranc/
LOCATION:Cac saint restitut\, 3 passage de la cure\, Saint Restitut\, 26130\, France
END:VEVENT
BEGIN:VEVENT
DTSTART;TZID=Europe/Paris:20210906T180000
DTEND;TZID=Europe/Paris:20210906T200000
DTSTAMP:20260424T205710
CREATED:20210904T091933Z
LAST-MODIFIED:20210904T091933Z
UID:2616-1630951200-1630958400@cacstrestitut.fr
SUMMARY:Carte blanche à Jérôme Delay (vernissage)
DESCRIPTION: 
URL:https://cacstrestitut.fr/event/carte-blanche-a-jerome-delay-vernissage/
LOCATION:Cac saint restitut\, 3 passage de la cure\, Saint Restitut\, 26130\, France
END:VEVENT
BEGIN:VEVENT
DTSTART;TZID=Europe/Paris:20210818T210000
DTEND;TZID=Europe/Paris:20210818T233000
DTSTAMP:20260424T205710
CREATED:20210526T131431Z
LAST-MODIFIED:20210811T091928Z
UID:2556-1629320400-1629329400@cacstrestitut.fr
SUMMARY:Concert Parfum de Jazz
DESCRIPTION:Rachel Therrien quartet : Rachel Therrien (trompette\, bugle)\, Québec\, Daniel Gassin (piano)\, Paris\, Dario Guibert (contrebasse)\, Madrid\, Mareike Wiening (batterie)\, Cologne. Réservation sur www.parfumdejazz.com/artistes/rachel-therrien-quartet
URL:https://cacstrestitut.fr/event/concert-parfum-de-jazz/
LOCATION:Place de l’église de Saint-Restitut\, Place de l'église\, Sainr-Restitut\, Drôme\, 26130\, France
END:VEVENT
BEGIN:VEVENT
DTSTART;TZID=Europe/Paris:20210714T103000
DTEND;TZID=Europe/Paris:20210714T163000
DTSTAMP:20260424T205710
CREATED:20210522T102744Z
LAST-MODIFIED:20210528T153947Z
UID:2510-1626258600-1626280200@cacstrestitut.fr
SUMMARY:In Situ\, visites avec les artistes
DESCRIPTION:Visites des sculptures présentes dans le village avec les artistes
URL:https://cacstrestitut.fr/event/hors-les-murs-visites-avec-les-artistes/
LOCATION:Cac saint restitut\, 3 passage de la cure\, Saint Restitut\, 26130\, France
END:VEVENT
BEGIN:VEVENT
DTSTART;TZID=Europe/Paris:20210619T180000
DTEND;TZID=Europe/Paris:20210619T200000
DTSTAMP:20260424T205710
CREATED:20210526T130748Z
LAST-MODIFIED:20210526T130748Z
UID:2554-1624125600-1624132800@cacstrestitut.fr
SUMMARY:Conférence de Karole Vail (Exposition Yazid Oulab)
DESCRIPTION:Karole Vail (Directrice de la fondation Guggenheim de Venise ) – Histoire d’une collection.
URL:https://cacstrestitut.fr/event/conference-de-karole-vail-exposition-yazid-oulab/
LOCATION:Cac saint restitut\, 3 passage de la cure\, Saint Restitut\, 26130\, France
END:VEVENT
BEGIN:VEVENT
DTSTART;TZID=Europe/Paris:20210613T103000
DTEND;TZID=Europe/Paris:20210613T120000
DTSTAMP:20260424T205710
CREATED:20210526T130517Z
LAST-MODIFIED:20210526T130517Z
UID:2552-1623580200-1623585600@cacstrestitut.fr
SUMMARY:Table Ronde animée par Olivier Kaeppelin (Exposition Yazid Oulab)
DESCRIPTION:Olivier Kaeppelin (ex-délégué aux arts plastiques et ex-directeur de la fondation Maeght) en Présence de Yazid Oulab
URL:https://cacstrestitut.fr/event/table-ronde-animee-par-olivier-kaeppelin-exposition-yazid-oulab/
LOCATION:Cac saint restitut\, 3 passage de la cure\, Saint Restitut\, 26130\, France
END:VEVENT
BEGIN:VEVENT
DTSTART;TZID=Europe/Paris:20210604T143000
DTEND;TZID=Europe/Paris:20210604T203000
DTSTAMP:20260424T205710
CREATED:20210526T130040Z
LAST-MODIFIED:20210528T153508Z
UID:2550-1622817000-1622838600@cacstrestitut.fr
SUMMARY:Fin de l'exposition "Parenthèse 2021" : Rencontre avec Gary Knight
DESCRIPTION:A partir de 14h30 Fin de l’exposition de Gary KNIGHT \n17h : Rencontre avec Gary KNIGHT \n 
URL:https://cacstrestitut.fr/event/fin-de-lexposition-parenthese-2021/
LOCATION:Cac saint restitut\, 3 passage de la cure\, Saint Restitut\, 26130\, France
END:VEVENT
END:VCALENDAR