BEGIN:VCALENDAR
VERSION:2.0
PRODID:-//Centre d&#039;art contemporain de St Restitut - ECPv6.15.20//NONSGML v1.0//EN
CALSCALE:GREGORIAN
METHOD:PUBLISH
X-ORIGINAL-URL:https://cacstrestitut.fr
X-WR-CALDESC:Évènements pour Centre d&#039;art contemporain de St Restitut
REFRESH-INTERVAL;VALUE=DURATION:PT1H
X-Robots-Tag:noindex
X-PUBLISHED-TTL:PT1H
BEGIN:VTIMEZONE
TZID:Europe/Paris
BEGIN:DAYLIGHT
TZOFFSETFROM:+0100
TZOFFSETTO:+0200
TZNAME:CEST
DTSTART:20220327T010000
END:DAYLIGHT
BEGIN:STANDARD
TZOFFSETFROM:+0200
TZOFFSETTO:+0100
TZNAME:CET
DTSTART:20221030T010000
END:STANDARD
BEGIN:DAYLIGHT
TZOFFSETFROM:+0100
TZOFFSETTO:+0200
TZNAME:CEST
DTSTART:20230326T010000
END:DAYLIGHT
BEGIN:STANDARD
TZOFFSETFROM:+0200
TZOFFSETTO:+0100
TZNAME:CET
DTSTART:20231029T010000
END:STANDARD
BEGIN:DAYLIGHT
TZOFFSETFROM:+0100
TZOFFSETTO:+0200
TZNAME:CEST
DTSTART:20240331T010000
END:DAYLIGHT
BEGIN:STANDARD
TZOFFSETFROM:+0200
TZOFFSETTO:+0100
TZNAME:CET
DTSTART:20241027T010000
END:STANDARD
END:VTIMEZONE
BEGIN:VEVENT
DTSTART;TZID=Europe/Paris:20230806T080000
DTEND;TZID=Europe/Paris:20231007T170000
DTSTAMP:20260423T153506
CREATED:20230819T140021Z
LAST-MODIFIED:20230826T162454Z
UID:3266-1691308800-1696698000@cacstrestitut.fr
SUMMARY:EXPOSITION MICHEL DUPORT>7 OCTOBRE 2023 - 10H>12H  - 16H>19H
DESCRIPTION:
URL:https://cacstrestitut.fr/event/exposition-michel-duport/
LOCATION:Cac saint restitut\, 3 passage de la cure\, Saint Restitut\, 26130\, France
END:VEVENT
BEGIN:VEVENT
DTSTART;TZID=Europe/Paris:20230806T100000
DTEND;TZID=Europe/Paris:20231007T190000
DTSTAMP:20260423T153506
CREATED:20230811T143947Z
LAST-MODIFIED:20230826T161803Z
UID:3208-1691316000-1696705200@cacstrestitut.fr
SUMMARY:EXPOSITION Michel DUPORT\, de la couleur ... de la peinture ... formes en tableau et en volumes ...
DESCRIPTION:
URL:https://cacstrestitut.fr/event/exposition-michel-duport-de-la-couleur-de-la-peinture-formes-en-tableau-et-en-volumes/
LOCATION:Cac saint restitut\, 3 passage de la cure\, Saint Restitut\, 26130\, France
END:VEVENT
END:VCALENDAR